BEGIN:VCALENDAR
VERSION:2.0
PRODID:-//Jagdverband Fürstenwalde e.V. - ECPv6.8.1//NONSGML v1.0//EN
CALSCALE:GREGORIAN
METHOD:PUBLISH
X-ORIGINAL-URL:https://www.jagdverband-fuerstenwalde.de
X-WR-CALDESC:Veranstaltungen für Jagdverband Fürstenwalde e.V.
REFRESH-INTERVAL;VALUE=DURATION:PT1H
X-Robots-Tag:noindex
X-PUBLISHED-TTL:PT1H
BEGIN:VTIMEZONE
TZID:Europe/Berlin
BEGIN:DAYLIGHT
TZOFFSETFROM:+0100
TZOFFSETTO:+0200
TZNAME:CEST
DTSTART:20210328T010000
END:DAYLIGHT
BEGIN:STANDARD
TZOFFSETFROM:+0200
TZOFFSETTO:+0100
TZNAME:CET
DTSTART:20211031T010000
END:STANDARD
END:VTIMEZONE
BEGIN:VEVENT
DTSTART;TZID=Europe/Berlin:20210911T100000
DTEND;TZID=Europe/Berlin:20210911T170000
DTSTAMP:20260423T165452
CREATED:20210204T150407Z
LAST-MODIFIED:20210426T120654Z
UID:1051-1631354400-1631379600@www.jagdverband-fuerstenwalde.de
SUMMARY:Jahreshauptversammlung des Jagdverbandes Fürstenwalde
DESCRIPTION:
URL:https://www.jagdverband-fuerstenwalde.de/termin/jahreshauptversammlung-des-jagdverbandes-fuerstenwalde/
LOCATION:Landgasthof Spreetal\, Dorfstrasse 33\, Berkenbrück\, Brandenburg\, 15518\, Germany
END:VEVENT
END:VCALENDAR