BEGIN:VCALENDAR
VERSION:2.0
PRODID:-//Jagdverband Fürstenwalde e.V. - ECPv6.8.1//NONSGML v1.0//EN
CALSCALE:GREGORIAN
METHOD:PUBLISH
X-ORIGINAL-URL:https://www.jagdverband-fuerstenwalde.de
X-WR-CALDESC:Veranstaltungen für Jagdverband Fürstenwalde e.V.
REFRESH-INTERVAL;VALUE=DURATION:PT1H
X-Robots-Tag:noindex
X-PUBLISHED-TTL:PT1H
BEGIN:VTIMEZONE
TZID:Europe/Berlin
BEGIN:DAYLIGHT
TZOFFSETFROM:+0100
TZOFFSETTO:+0200
TZNAME:CEST
DTSTART:20210328T010000
END:DAYLIGHT
BEGIN:STANDARD
TZOFFSETFROM:+0200
TZOFFSETTO:+0100
TZNAME:CET
DTSTART:20211031T010000
END:STANDARD
END:VTIMEZONE
BEGIN:VEVENT
DTSTART;TZID=Europe/Berlin:20210703T090000
DTEND;TZID=Europe/Berlin:20210703T120000
DTSTAMP:20260423T214727
CREATED:20210314T193640Z
LAST-MODIFIED:20210314T193640Z
UID:1079-1625302800-1625313600@www.jagdverband-fuerstenwalde.de
SUMMARY:Kaderschießen Jagdliches Schießen
DESCRIPTION:
URL:https://www.jagdverband-fuerstenwalde.de/termin/kaderschiessen-jagdliches-schiessen/
LOCATION:Schiessstand Falkenhagen\, Ernst-Thälmann-Str. 48\, Falkenhagen\, 15306
END:VEVENT
BEGIN:VEVENT
DTSTART;TZID=Europe/Berlin:20210703T120000
DTEND;TZID=Europe/Berlin:20210703T140000
DTSTAMP:20260423T214727
CREATED:20210204T152006Z
LAST-MODIFIED:20210601T104503Z
UID:1061-1625313600-1625320800@www.jagdverband-fuerstenwalde.de
SUMMARY:Vorstandsitzung Jagdverband Fürstenwalde
DESCRIPTION:
URL:https://www.jagdverband-fuerstenwalde.de/termin/vorstandsitzung-jagdverband-fuerstenwalde-5/
LOCATION:Schiessstand Falkenhagen\, Ernst-Thälmann-Str. 48\, Falkenhagen\, 15306
END:VEVENT
BEGIN:VEVENT
DTSTART;TZID=Europe/Berlin:20210703T130000
DTEND;TZID=Europe/Berlin:20210703T180000
DTSTAMP:20260423T214727
CREATED:20210314T193436Z
LAST-MODIFIED:20210314T193436Z
UID:1077-1625317200-1625335200@www.jagdverband-fuerstenwalde.de
SUMMARY:Verbandsmeisterschaft Jagdliches Schießen
DESCRIPTION:
URL:https://www.jagdverband-fuerstenwalde.de/termin/verbandsmeisterschaft-jagdliches-schiessen/
LOCATION:Schiessstand Falkenhagen\, Ernst-Thälmann-Str. 48\, Falkenhagen\, 15306
END:VEVENT
END:VCALENDAR